BEGIN:VCALENDAR
VERSION:2.0
PRODID:icalendar-ruby
CALSCALE:GREGORIAN
METHOD:PUBLISH
BEGIN:VEVENT
DTSTAMP:20260420T062211Z
UID:58-1158329@stjohn-sardis.ca
DTSTART:20260728T210000Z
DTEND:20260728T220000Z
CLASS:PUBLIC
CREATED:20260419T200850
DESCRIPTION:The Contemplative Study Group meets every Tuesday at 2:00 p.m. 
 The purpose of our group is to seek God in the world around use and within
  our selves. This is done through prayer\, selected readings and activitie
 s such as walking the labyrinth. If you're seeking to enrich your spiritua
 l life\, please join us.
LAST-MODIFIED:20260419T200850
LOCATION:
SUMMARY:Contemplative Studies
URL;VALUE=URI:https://stjohn-sardis.ca/events/contemplative-studies/2026-07
 -28
ATTACH;FILENAME=Audio-Divina.png;FMTTYPE=image/png:https://dq5pwpg1q8ru0.cl
 oudfront.net/2024/04/16/18/20/46/dab7a53c-6883-4be1-9db3-9fd053d7f458/Audi
 o-Divina.png
END:VEVENT
END:VCALENDAR
